BEGIN:VCALENDAR
VERSION:2.0
PRODID:-//Tukios.com/
BEGIN:VEVENT
UID:2e38d1a1-6cd6-4bb4-b3d9-f4f4f98359e1@www.welterfuneralhome.com
DTSTAMP:20260423T203845Z
DTSTART:20260502T150000Z
DTEND:20260502T160000Z
SUMMARY:Visitation
DESCRIPTION:
URL:https://www.welterfuneralhome.com/obituaries/jerry-galliger
LOCATION: 510 Dakota Avenue South  Huron SD 57350
GEO:44.3604676;-98.2135948
END:VEVENT
END:VCALENDAR