BEGIN:VCALENDAR
VERSION:2.0
PRODID:-//Tukios.com/
BEGIN:VEVENT
UID:f13d7af4-d8c2-4131-a070-66a5b3ca2219@www.welterfuneralhome.com
DTSTAMP:20260423T203943Z
DTSTART:20260502T160000Z
DTEND:20260502T170000Z
SUMMARY:Memorial Service
DESCRIPTION:
URL:https://www.welterfuneralhome.com/obituaries/jerry-galliger
LOCATION: 510 Dakota Avenue South  Huron SD 57350
GEO:44.3604676;-98.2135948
END:VEVENT
END:VCALENDAR