BEGIN:VCALENDAR
VERSION:2.0
PRODID:-//Tukios.com/
BEGIN:VEVENT
UID:73a325fd-a14c-46ff-ad9b-6759151379f2@www.welterfuneralhome.com
DTSTAMP:20260423T203404Z
DTSTART:20260428T160000Z
DTEND:20260428T170000Z
SUMMARY:Memorial Service
DESCRIPTION:
URL:https://www.welterfuneralhome.com/obituaries/dan-wurzer
LOCATION:Welter Funeral Home 267 3rd St SE  Huron SD 57350
GEO:44.3635666;-98.2096358
END:VEVENT
END:VCALENDAR