BEGIN:VCALENDAR
VERSION:2.0
PRODID:-//Tukios.com/
BEGIN:VEVENT
UID:633efc37-75dd-4fc4-a537-6ef375b4cf6f@www.welterfuneralhome.com
DTSTAMP:20260423T203655Z
DTSTART:20260427T220000Z
DTEND:20260428T000000Z
SUMMARY:Visitation
DESCRIPTION:
URL:https://www.welterfuneralhome.com/obituaries/dan-wurzer
LOCATION:Welter Funeral Home 267 3rd St SE  Huron SD 57350
GEO:44.3635666;-98.2096358
END:VEVENT
END:VCALENDAR